Workbook
Name Corsi: #REF!
Name Corsi: #REF!
Name DICHIARAZIONE: #REF!
Name Dipendenti: #REF!

Sheet DATI SOCIETA
C1: DATI SOCIETA' SPORTIVA
C3: SOCIETA'
C4: CODICE FISCALE SOCIETA'
C5: INDIRIZZO
C6: TELEFONO
C7: E-MAIL
C9: DICHIARAZIONE DI RESPONSABILITA' ASSICURATIVA
C10: Il Presidente della società dichiara che tutti gli Atleti iscritti sono in regola con l'idoneità medica e
C11: assicurativa. Dichiara altresì che tutti gli Atleti/Coach iscritti sono regolarmente tesserati presso la propria società
C12: e Federazione/Ente di promozione sportiva per l'anno sportivo in corso.
C14: IL PRESIDENTE
C15: LUOGO E DATA

Sheet REGISTRAZIONE COACH
C1: REGISTRAZIONE COACH
C2: ATTENZIONE: SI RICORDA CHE IL NUMERO DI COACH REGISTRABILI E' NELL'ORDINE DI 1 OGNI 8 ATLETI ISCRITTI TOTALI. IL RESPONSABILE DELLA SOCIETA' E I SINGOLI COACH DICHIARANO CON IL SEGUENTE FORM CHE TUTTE LE INFORMAZIONI CONTENUTE RISULTANO VERE. EVENTUALI DISCREPANZE O IRREGOLARITA' PORTERANNO ALL'IMPOSSIBILITA' AD OPERARE QUALI COACH. Alla voce "rilasciato da" inserire la sigla della Federazione o E.P.S. che ha emesso il relativo tesserino tecnico.
C4: COGNOME | D4: NOME | E4: GRADO TECNICO | F4: N° TESSERINO TECNICO | G4: RILASCIATO DA
B5: 1
B6: 2
B7: 3
B8: 4
B9: 5
B10: 6
B11: 7
B12: 8
B13: 9
B14: 10
F86: =IF('REGISTRAZIONE COACH'!$E86="","",IFERROR(VLOOKUP('REGISTRAZIONE COACH'!$E86,#REF!,2,0),"Not Found"))
F87: =IF('REGISTRAZIONE COACH'!$E87="","",IFERROR(VLOOKUP('REGISTRAZIONE COACH'!$E87,#REF!,2,0),"Not Found"))
F88: =IF('REGISTRAZIONE COACH'!$E88="","",IFERROR(VLOOKUP('REGISTRAZIONE COACH'!$E88,#REF!,2,0),"Not Found"))
F89: =IF('REGISTRAZIONE COACH'!$E89="","",IFERROR(VLOOKUP('REGISTRAZIONE COACH'!$E89,#REF!,2,0),"Not Found"))
F90: =IF('REGISTRAZIONE COACH'!$E90="","",IFERROR(VLOOKUP('REGISTRAZIONE COACH'!$E90,#REF!,2,0),"Not Found"))
F91: =IF('REGISTRAZIONE COACH'!$E91="","",IFERROR(VLOOKUP('REGISTRAZIONE COACH'!$E91,#REF!,2,0),"Not Found"))
F92: =IF('REGISTRAZIONE COACH'!$E92="","",IFERROR(VLOOKUP('REGISTRAZIONE COACH'!$E92,#REF!,2,0),"Not Found"))
F93: =IF('REGISTRAZIONE COACH'!$E93="","",IFERROR(VLOOKUP('REGISTRAZIONE COACH'!$E93,#REF!,2,0),"Not Found"))
F94: =IF('REGISTRAZIONE COACH'!$E94="","",IFERROR(VLOOKUP('REGISTRAZIONE COACH'!$E94,#REF!,2,0),"Not Found"))
F95: =IF('REGISTRAZIONE COACH'!$E95="","",IFERROR(VLOOKUP('REGISTRAZIONE COACH'!$E95,#REF!,2,0),"Not Found"))
F96: =IF('REGISTRAZIONE COACH'!$E96="","",IFERROR(VLOOKUP('REGISTRAZIONE COACH'!$E96,#REF!,2,0),"Not Found"))
F97: =IF('REGISTRAZIONE COACH'!$E97="","",IFERROR(VLOOKUP('REGISTRAZIONE COACH'!$E97,#REF!,2,0),"Not Found"))
... F150: =IF('REGISTRAZIONE COACH'!$E150="","",IFERROR(VLOOKUP('REGISTRAZIONE COACH'!$E150,#REF!,2,0),"Not Found"))

Sheet Foglio1
A1: BIANCA | B1: A1 | C1: Q1 | D1: SA1 | E1: DA1
A2: GIALLA | B2: A2 | C2: Q2 | D2: SA2 | E2: DA2
A3: ARANCIO | B3: A3 | C3: Q3 | D3: SA3 | E3: DA3
A4: VERDE | B4: A4 | C4: Q4 | D4: SB1 | E4: DB1
A5: BLU | B5: B1 | C5: R1 | D5: SB2 | E5: DB2
A6: MARRONE | B6: B2 | C6: R2 | D6: SB3 | E6: DB3
A7: NERA | B7: B3 | C7: R3 | D7: SC1 | E7: DC1
B8: B4 | C8: R4 | D8: SC2 | E8: DC2
B9: B5 | C9: S1 | D9: SC3 | E9: DC3
B10: B6 | C10: S2 | D10: SC4 | E10: DC4
B11: C1 | C11: S3 | D11: SD1 | E11: DE1
B12: C2 | C12: S4 | D12: SD2 | E12: DE2
B13: C3 | C13: S5 | D13: SD3 | E13: DE3
B14: C4 | C14: S6 | D14: SD4 | E14: DE4
B15: C5 | C15: T1 | D15: SD5 | E15: DE5
B16: C6 | C16: T2 | D16: SD6 | E16: DE6
B17: D1 | C17: T3 | D17: SD7 | E17: DE7
B18: D2 | C18: T4 | D18: SD8 | E18: DE8
B19: D3 | C19: T5 | D19: SE1
B20: D4 | C20: T6 | D20: SE2
B21: D5 | C21: U1 | D21: SE3
B22: D6 | C22: U2 | D22: SE4
B23: E1 | C23: U3 | D23: SE5
B24: E2 | C24: U4 | D24: SE6
B25: E3 | C25: U5 | D25: SE7
B26: E4 | C26: U6 | D26: SE8
B27: E5 | D27: SF1
B28: E6 | D28: SF2
B29: E7 | D29: SF3
B30: E8 | D30: SF4
B31: F1 | D31: SF5
B32: F2 | D32: SF6
B33: F3 | D33: SF7
B34: F4 | D34: SF8
B35: F5
B36: F6
B37: F7
B38: F8
B39: G1
B40: G2
B41: G3
B42: G4
B43: G5
B44: G6
B45: G7
B46: G8
... B70: J8

Sheet KATA INDIVIDUALE
C2: ISCRIZIONE ATLETI KATA INDIVIDUALE
C4: COGNOME | D4: NOME | E4: DATA DI NASCITA | F4: LUOGO DI NASCITA | G4: CODICE FISCALE | H4: GRADO | I4: CODICE DI ISCRIZIONE
B5: 1
B6: 2
B7: 3
B8: 4
B9: 5
B10: 6
B11: 7
B12: 8
B13: 9
B14: 10
B15: 11
B16: 12
... B54: 50
F86: =IF(tblDiarioCorsi[[#This Row],[DATA DI NASCITA]]="","",IFERROR(VLOOKUP(tblDiarioCorsi[[#This Row],[DATA DI NASCITA]],#REF!,2,0),"Not Found"))
F87: =IF(tblDiarioCorsi[[#This Row],[DATA DI NASCITA]]="","",IFERROR(VLOOKUP(tblDiarioCorsi[[#This Row],[DATA DI NASCITA]],#REF!,2,0),"Not Found"))
F88: =IF(tblDiarioCorsi[[#This Row],[DATA DI NASCITA]]="","",IFERROR(VLOOKUP(tblDiarioCorsi[[#This Row],[DATA DI NASCITA]],#REF!,2,0),"Not Found"))
F89: =IF(tblDiarioCorsi[[#This Row],[DATA DI NASCITA]]="","",IFERROR(VLOOKUP(tblDiarioCorsi[[#This Row],[DATA DI NASCITA]],#REF!,2,0),"Not Found"))
F90: =IF(tblDiarioCorsi[[#This Row],[DATA DI NASCITA]]="","",IFERROR(VLOOKUP(tblDiarioCorsi[[#This Row],[DATA DI NASCITA]],#REF!,2,0),"Not Found"))
F91: =IF(tblDiarioCorsi[[#This Row],[DATA DI NASCITA]]="","",IFERROR(VLOOKUP(tblDiarioCorsi[[#This Row],[DATA DI NASCITA]],#REF!,2,0),"Not Found"))
F92: =IF(tblDiarioCorsi[[#This Row],[DATA DI NASCITA]]="","",IFERROR(VLOOKUP(tblDiarioCorsi[[#This Row],[DATA DI NASCITA]],#REF!,2,0),"Not Found"))
F93: =IF(tblDiarioCorsi[[#This Row],[DATA DI NASCITA]]="","",IFERROR(VLOOKUP(tblDiarioCorsi[[#This Row],[DATA DI NASCITA]],#REF!,2,0),"Not Found"))
F94: =IF(tblDiarioCorsi[[#This Row],[DATA DI NASCITA]]="","",IFERROR(VLOOKUP(tblDiarioCorsi[[#This Row],[DATA DI NASCITA]],#REF!,2,0),"Not Found"))
F95: =IF(tblDiarioCorsi[[#This Row],[DATA DI NASCITA]]="","",IFERROR(VLOOKUP(tblDiarioCorsi[[#This Row],[DATA DI NASCITA]],#REF!,2,0),"Not Found"))
F96: =IF(tblDiarioCorsi[[#This Row],[DATA DI NASCITA]]="","",IFERROR(VLOOKUP(tblDiarioCorsi[[#This Row],[DATA DI NASCITA]],#REF!,2,0),"Not Found"))
F97: =IF(tblDiarioCorsi[[#This Row],[DATA DI NASCITA]]="","",IFERROR(VLOOKUP(tblDiarioCorsi[[#This Row],[DATA DI NASCITA]],#REF!,2,0),"Not Found"))
... F150: =IF(tblDiarioCorsi[[#This Row],[DATA DI NASCITA]]="","",IFERROR(VLOOKUP(tblDiarioCorsi[[#This Row],[DATA DI NASCITA]],#REF!,2,0),"Not Found"))

Sheet KATA DUO
C2: ISCRIZIONE ATLETI KATA DUO
C4: COGNOME | D4: NOME | E4: DATA DI NASCITA | F4: LUOGO DI NASCITA | G4: CODICE FISCALE | H4: GRADO | I4: CODICE DI ISCRIZIONE
B5: 1
B7: 2
B9: 3
B11: 4
B13: 5
B15: 6
B17: 7
B19: 8
B21: 9
B23: 10
B25: 11
B27: 12
... B43: 20
F86: =IF('KATA DUO'!$E86="","",IFERROR(VLOOKUP('KATA DUO'!$E86,#REF!,2,0),"Not Found"))
F87: =IF('KATA DUO'!$E87="","",IFERROR(VLOOKUP('KATA DUO'!$E87,#REF!,2,0),"Not Found"))
F88: =IF('KATA DUO'!$E88="","",IFERROR(VLOOKUP('KATA DUO'!$E88,#REF!,2,0),"Not Found"))
F89: =IF('KATA DUO'!$E89="","",IFERROR(VLOOKUP('KATA DUO'!$E89,#REF!,2,0),"Not Found"))
F90: =IF('KATA DUO'!$E90="","",IFERROR(VLOOKUP('KATA DUO'!$E90,#REF!,2,0),"Not Found"))
F91: =IF('KATA DUO'!$E91="","",IFERROR(VLOOKUP('KATA DUO'!$E91,#REF!,2,0),"Not Found"))
F92: =IF('KATA DUO'!$E92="","",IFERROR(VLOOKUP('KATA DUO'!$E92,#REF!,2,0),"Not Found"))
F93: =IF('KATA DUO'!$E93="","",IFERROR(VLOOKUP('KATA DUO'!$E93,#REF!,2,0),"Not Found"))
F94: =IF('KATA DUO'!$E94="","",IFERROR(VLOOKUP('KATA DUO'!$E94,#REF!,2,0),"Not Found"))
F95: =IF('KATA DUO'!$E95="","",IFERROR(VLOOKUP('KATA DUO'!$E95,#REF!,2,0),"Not Found"))
F96: =IF('KATA DUO'!$E96="","",IFERROR(VLOOKUP('KATA DUO'!$E96,#REF!,2,0),"Not Found"))
F97: =IF('KATA DUO'!$E97="","",IFERROR(VLOOKUP('KATA DUO'!$E97,#REF!,2,0),"Not Found"))
... F150: =IF('KATA DUO'!$E150="","",IFERROR(VLOOKUP('KATA DUO'!$E150,#REF!,2,0),"Not Found"))

Sheet KATA SQUADRE
C2: ISCRIZIONE ATLETI KATA A SQUADRE
C4: COGNOME | D4: NOME | E4: DATA DI NASCITA | F4: LUOGO DI NASCITA | G4: CODICE FISCALE | H4: GRADO | I4: CODICE DI ISCRIZIONE
B5: 1
B8: 2
B11: 3
B14: 4
B17: 5
B20: 6
B23: 7
B26: 8
B29: 9
B32: 10
B35: 11
B38: 12
B41: 13
F86: =IF('KATA SQUADRE'!$E86="","",IFERROR(VLOOKUP('KATA SQUADRE'!$E86,#REF!,2,0),"Not Found"))
F87: =IF('KATA SQUADRE'!$E87="","",IFERROR(VLOOKUP('KATA SQUADRE'!$E87,#REF!,2,0),"Not Found"))
F88: =IF('KATA SQUADRE'!$E88="","",IFERROR(VLOOKUP('KATA SQUADRE'!$E88,#REF!,2,0),"Not Found"))
F89: =IF('KATA SQUADRE'!$E89="","",IFERROR(VLOOKUP('KATA SQUADRE'!$E89,#REF!,2,0),"Not Found"))
F90: =IF('KATA SQUADRE'!$E90="","",IFERROR(VLOOKUP('KATA SQUADRE'!$E90,#REF!,2,0),"Not Found"))
F91: =IF('KATA SQUADRE'!$E91="","",IFERROR(VLOOKUP('KATA SQUADRE'!$E91,#REF!,2,0),"Not Found"))
F92: =IF('KATA SQUADRE'!$E92="","",IFERROR(VLOOKUP('KATA SQUADRE'!$E92,#REF!,2,0),"Not Found"))
F93: =IF('KATA SQUADRE'!$E93="","",IFERROR(VLOOKUP('KATA SQUADRE'!$E93,#REF!,2,0),"Not Found"))
F94: =IF('KATA SQUADRE'!$E94="","",IFERROR(VLOOKUP('KATA SQUADRE'!$E94,#REF!,2,0),"Not Found"))
F95: =IF('KATA SQUADRE'!$E95="","",IFERROR(VLOOKUP('KATA SQUADRE'!$E95,#REF!,2,0),"Not Found"))
F96: =IF('KATA SQUADRE'!$E96="","",IFERROR(VLOOKUP('KATA SQUADRE'!$E96,#REF!,2,0),"Not Found"))
F97: =IF('KATA SQUADRE'!$E97="","",IFERROR(VLOOKUP('KATA SQUADRE'!$E97,#REF!,2,0),"Not Found"))
... F150: =IF('KATA SQUADRE'!$E150="","",IFERROR(VLOOKUP('KATA SQUADRE'!$E150,#REF!,2,0),"Not Found"))

Sheet KUMITE
C2: ISCRIZIONE ATLETI KUMITE
C4: COGNOME | D4: NOME | E4: DATA DI NASCITA | F4: LUOGO DI NASCITA | G4: CODICE FISCALE | H4: CODICE CATEGORIA
B5: 1
B6: 2
B7: 3
B8: 4
B9: 5
B10: 6
B11: 7
B12: 8
B13: 9
B14: 10
B15: 11
B16: 12
... B54: 50
F86: =IF(tblDiarioCorsi89[[#This Row],[DATA DI NASCITA]]="","",IFERROR(VLOOKUP(tblDiarioCorsi89[[#This Row],[DATA DI NASCITA]],#REF!,2,0),"Not Found"))
F87: =IF(tblDiarioCorsi89[[#This Row],[DATA DI NASCITA]]="","",IFERROR(VLOOKUP(tblDiarioCorsi89[[#This Row],[DATA DI NASCITA]],#REF!,2,0),"Not Found"))
F88: =IF(tblDiarioCorsi89[[#This Row],[DATA DI NASCITA]]="","",IFERROR(VLOOKUP(tblDiarioCorsi89[[#This Row],[DATA DI NASCITA]],#REF!,2,0),"Not Found"))
F89: =IF(tblDiarioCorsi89[[#This Row],[DATA DI NASCITA]]="","",IFERROR(VLOOKUP(tblDiarioCorsi89[[#This Row],[DATA DI NASCITA]],#REF!,2,0),"Not Found"))
F90: =IF(tblDiarioCorsi89[[#This Row],[DATA DI NASCITA]]="","",IFERROR(VLOOKUP(tblDiarioCorsi89[[#This Row],[DATA DI NASCITA]],#REF!,2,0),"Not Found"))
F91: =IF(tblDiarioCorsi89[[#This Row],[DATA DI NASCITA]]="","",IFERROR(VLOOKUP(tblDiarioCorsi89[[#This Row],[DATA DI NASCITA]],#REF!,2,0),"Not Found"))
F92: =IF(tblDiarioCorsi89[[#This Row],[DATA DI NASCITA]]="","",IFERROR(VLOOKUP(tblDiarioCorsi89[[#This Row],[DATA DI NASCITA]],#REF!,2,0),"Not Found"))
F93: =IF(tblDiarioCorsi89[[#This Row],[DATA DI NASCITA]]="","",IFERROR(VLOOKUP(tblDiarioCorsi89[[#This Row],[DATA DI NASCITA]],#REF!,2,0),"Not Found"))
F94: =IF(tblDiarioCorsi89[[#This Row],[DATA DI NASCITA]]="","",IFERROR(VLOOKUP(tblDiarioCorsi89[[#This Row],[DATA DI NASCITA]],#REF!,2,0),"Not Found"))
F95: =IF(tblDiarioCorsi89[[#This Row],[DATA DI NASCITA]]="","",IFERROR(VLOOKUP(tblDiarioCorsi89[[#This Row],[DATA DI NASCITA]],#REF!,2,0),"Not Found"))
F96: =IF(tblDiarioCorsi89[[#This Row],[DATA DI NASCITA]]="","",IFERROR(VLOOKUP(tblDiarioCorsi89[[#This Row],[DATA DI NASCITA]],#REF!,2,0),"Not Found"))
F97: =IF(tblDiarioCorsi89[[#This Row],[DATA DI NASCITA]]="","",IFERROR(VLOOKUP(tblDiarioCorsi89[[#This Row],[DATA DI NASCITA]],#REF!,2,0),"Not Found"))
... F150: =IF(tblDiarioCorsi89[[#This Row],[DATA DI NASCITA]]="","",IFERROR(VLOOKUP(tblDiarioCorsi89[[#This Row],[DATA DI NASCITA]],#REF!,2,0),"Not Found"))
